BEGIN:VCALENDAR
VERSION:2.0
PRODID:-//pretix//pretix.eu//
BEGIN:VTIMEZONE
TZID:Europe/Berlin
BEGIN:STANDARD
DTSTART:20001029T040000
RRULE:FREQ=YEARLY;BYDAY=-1SU;BYMONTH=10
TZNAME:CET
TZOFFSETFROM:+0200
TZOFFSETTO:+0100
END:STANDARD
BEGIN:DAYLIGHT
DTSTART:20000326T030000
RRULE:FREQ=YEARLY;BYDAY=-1SU;BYMONTH=3
TZNAME:CEST
TZOFFSETFROM:+0100
TZOFFSETTO:+0200
END:DAYLIGHT
END:VTIMEZONE
BEGIN:VEVENT
UID:pretix-romanhofbauer-mws3j-0@romanhofbauer.fairetickets.de
DTSTART;TZID=Europe/Berlin:20260829T200000
DTEND;TZID=Europe/Berlin:20260829T210000
DESCRIPTION:Tickets: https://romanhofbauer.fairetickets.de/mws3j/\nEinlass:
  29.08.2026 19:00\nVeranstalter: Unterhaltung = Hofbauer
DTSTAMP:20260419T120116Z
LOCATION:Magdalenenplatz 1\, 94447 Plattling
SUMMARY:Hans Söllner „solo“ (Magdalenenplatz Plattling)
END:VEVENT
END:VCALENDAR
