BEGIN:VCALENDAR
VERSION:2.0
PRODID:-//pretix//pretix.eu//
BEGIN:VTIMEZONE
TZID:Europe/Berlin
BEGIN:STANDARD
DTSTART:20001029T040000
RRULE:FREQ=YEARLY;BYDAY=-1SU;BYMONTH=10
TZNAME:CET
TZOFFSETFROM:+0200
TZOFFSETTO:+0100
END:STANDARD
BEGIN:DAYLIGHT
DTSTART:20000326T030000
RRULE:FREQ=YEARLY;BYDAY=-1SU;BYMONTH=3
TZNAME:CEST
TZOFFSETFROM:+0100
TZOFFSETTO:+0200
END:DAYLIGHT
END:VTIMEZONE
BEGIN:VEVENT
UID:pretix-romanhofbauer-jwvsy-0@romanhofbauer.fairetickets.de
DTSTART;TZID=Europe/Berlin:20260711T190000
DTEND;TZID=Europe/Berlin:20260711T200000
DESCRIPTION:Tickets: https://romanhofbauer.fairetickets.de/jwvsy/\nEinlass:
  11.07.2026 18:30\nVeranstalter: Unterhaltung = Hofbauer
DTSTAMP:20260420T172657Z
LOCATION:Atrium\, Kurallee 7\, 84364 Bad Birnbach
SUMMARY:Simon & Garfunkel - Tribute mit Graceland (Atrium Bad Birnbach)
END:VEVENT
END:VCALENDAR
