BEGIN:VCALENDAR
VERSION:2.0
PRODID:-//pretix//pretix.eu//
BEGIN:VTIMEZONE
TZID:Europe/Berlin
BEGIN:STANDARD
DTSTART:20001029T040000
RRULE:FREQ=YEARLY;BYDAY=-1SU;BYMONTH=10
TZNAME:CET
TZOFFSETFROM:+0200
TZOFFSETTO:+0100
END:STANDARD
BEGIN:DAYLIGHT
DTSTART:20000326T030000
RRULE:FREQ=YEARLY;BYDAY=-1SU;BYMONTH=3
TZNAME:CEST
TZOFFSETFROM:+0100
TZOFFSETTO:+0200
END:DAYLIGHT
END:VTIMEZONE
BEGIN:VEVENT
UID:pretix-romanhofbauer-jengb-0@romanhofbauer.fairetickets.de
DTSTART;TZID=Europe/Berlin:20250523T183000
DTEND;TZID=Europe/Berlin:20250523T193000
DESCRIPTION:Tickets: https://romanhofbauer.fairetickets.de/jengb/\nEinlass:
  23.05.2025 17:30\nVeranstalter: Unterhaltung = Hofbauer
DTSTAMP:20260419T125151Z
LOCATION:Volksfestplatz\, Flurstraße\, 94437 Mamming
SUMMARY:XX TRACHT- & BRASSFESTIVAL (Volksfestplatz/Mamming)
END:VEVENT
END:VCALENDAR
