BEGIN:VCALENDAR
VERSION:2.0
PRODID:-//pretix//pretix.eu//
BEGIN:VTIMEZONE
TZID:Europe/Berlin
BEGIN:STANDARD
DTSTART:20001029T040000
RRULE:FREQ=YEARLY;BYDAY=-1SU;BYMONTH=10
TZNAME:CET
TZOFFSETFROM:+0200
TZOFFSETTO:+0100
END:STANDARD
BEGIN:DAYLIGHT
DTSTART:20000326T030000
RRULE:FREQ=YEARLY;BYDAY=-1SU;BYMONTH=3
TZNAME:CEST
TZOFFSETFROM:+0100
TZOFFSETTO:+0200
END:DAYLIGHT
END:VTIMEZONE
BEGIN:VEVENT
UID:pretix-romanhofbauer-emuuv-0@romanhofbauer.fairetickets.de
DTSTART;TZID=Europe/Berlin:20260618T200000
DTEND;TZID=Europe/Berlin:20260618T210000
DESCRIPTION:Tickets: https://romanhofbauer.fairetickets.de/emuuv/\nEinlass:
  18.06.2026 19:30\nVeranstalter: Unterhaltung = Hofbauer
DTSTAMP:20260424T164001Z
LOCATION:Gasthof zur Post\, Bahnhofstraße 2\, 84160 Frontenhausen
SUMMARY:Mensch Otto! mit RITA FALK (Postsaal Frontenhausen)
END:VEVENT
END:VCALENDAR
