BEGIN:VCALENDAR
VERSION:2.0
PRODID:-//pretix//pretix.eu//
BEGIN:VTIMEZONE
TZID:Europe/Berlin
BEGIN:STANDARD
DTSTART:20001029T040000
RRULE:FREQ=YEARLY;BYDAY=-1SU;BYMONTH=10
TZNAME:CET
TZOFFSETFROM:+0200
TZOFFSETTO:+0100
END:STANDARD
BEGIN:DAYLIGHT
DTSTART:20000326T030000
RRULE:FREQ=YEARLY;BYDAY=-1SU;BYMONTH=3
TZNAME:CEST
TZOFFSETFROM:+0100
TZOFFSETTO:+0200
END:DAYLIGHT
END:VTIMEZONE
BEGIN:VEVENT
UID:pretix-romanhofbauer-buwx9-0@romanhofbauer.fairetickets.de
DTSTART;TZID=Europe/Berlin:20261203T200000
DTEND;TZID=Europe/Berlin:20261203T210000
DESCRIPTION:Tickets: https://romanhofbauer.fairetickets.de/buwx9/\nEinlass:
  03.12.2026 18:00\nVeranstalter: Unterhaltung = Hofbauer
DTSTAMP:20260421T210506Z
LOCATION:Gasthaus Forstner\, Taufkirchener Straße 6\, 84326 Rimbach
SUMMARY:Petzenhauser & Wählt - Mia schenk ma uns nix (Gasthaus Forstner Ri
 mbach)
END:VEVENT
END:VCALENDAR
